BEGIN:VCALENDAR
VERSION:2.0
PRODID:-//Wilde Wiese Wohlgemuth - ECPv6.15.20//NONSGML v1.0//EN
CALSCALE:GREGORIAN
METHOD:PUBLISH
X-ORIGINAL-URL:https://wildewiesewohlgemuth.de
X-WR-CALDESC:Veranstaltungen für Wilde Wiese Wohlgemuth
REFRESH-INTERVAL;VALUE=DURATION:PT1H
X-Robots-Tag:noindex
X-PUBLISHED-TTL:PT1H
BEGIN:VTIMEZONE
TZID:UTC
BEGIN:STANDARD
TZOFFSETFROM:+0000
TZOFFSETTO:+0000
TZNAME:UTC
DTSTART:20230101T000000
END:STANDARD
END:VTIMEZONE
BEGIN:VEVENT
DTSTART;TZID=UTC:20240825T140000
DTEND;TZID=UTC:20240825T180000
DTSTAMP:20260420T032553
CREATED:20240624T163314Z
LAST-MODIFIED:20240624T163314Z
UID:1609-1724594400-1724608800@wildewiesewohlgemuth.de
SUMMARY:Wanderung zur BUND-Wiese
DESCRIPTION:Und hier noch ein Hinweis zum BUND: bei der Kreisgruppe Gelsenkirchen bin ich seit diesem Jahr aktiv im Vorstand mit dabei\, als Landesdelegierte. Am Sonntag\, den 25.08.\, von 14:00 – 18:00 Uhr findet eine Wanderung zur Wilden Wiese statt\, die der BUND schon vor Jahren für den Naturschutz von der Stadt Gelsenkirchen gepachtet hat. Dort im Norden an der Stadtgrenze wurde damals u.a. ein Teich angelegt\, um Amphibien anzusiedeln. Das hat mittlerweile sehr gut geklappt\, da die Wiese bis auf gelegentliches Mähen völlig brach liegt und eher selten menschlichen Besuch empfängt. Wir werden auf dem Weg dorthin die Kräuter am Wegesrand entdecken und natürlich die Flora und Fauna der Wiese betrachten. An der Wiese gibt es eine Kräutervesper und Kräutergetränke. Und das ganze völlig kostenfrei! \nErforderlich ist lediglich eine Anmeldung unter: bund.gelsenkirchen@hamannschulte.de
URL:https://wildewiesewohlgemuth.de/veranstaltung/wanderung-zur-bund-wiese/
LOCATION:Haltestelle Buerelter Straße\, Kirchhellenstr. 238\, Gelsenkirchen\, NRW\, 45896
CATEGORIES:Führungen,Wanderung
ATTACH;FMTTYPE=image/jpeg:https://wildewiesewohlgemuth.de/wp-content/uploads/2024/06/BUND-Wiese-scaled.jpg
END:VEVENT
END:VCALENDAR