BEGIN:VCALENDAR
VERSION:2.0
PRODID:-//Wilde Wiese Wohlgemuth - ECPv6.15.20//NONSGML v1.0//EN
CALSCALE:GREGORIAN
METHOD:PUBLISH
X-WR-CALNAME:Wilde Wiese Wohlgemuth
X-ORIGINAL-URL:https://wildewiesewohlgemuth.de
X-WR-CALDESC:Veranstaltungen für Wilde Wiese Wohlgemuth
REFRESH-INTERVAL;VALUE=DURATION:PT1H
X-Robots-Tag:noindex
X-PUBLISHED-TTL:PT1H
BEGIN:VTIMEZONE
TZID:UTC
BEGIN:STANDARD
TZOFFSETFROM:+0000
TZOFFSETTO:+0000
TZNAME:UTC
DTSTART:20230101T000000
END:STANDARD
END:VTIMEZONE
BEGIN:VEVENT
DTSTART;TZID=UTC:20240804T160000
DTEND;TZID=UTC:20240804T173000
DTSTAMP:20260419T182557
CREATED:20240624T160648Z
LAST-MODIFIED:20240727T080646Z
UID:1600-1722787200-1722792600@wildewiesewohlgemuth.de
SUMMARY:Kräutersommer in Resse
DESCRIPTION:Die nächste Kräuterführung zum Thema „Kräutersommer in Resse“ sucht die blühenden Wunder in der Stadt. Wir erkunden gemeinsam\, welche Kräuter vom Wegesrand nützlich\, giftig oder lecker sind. Dazu gibt es Informationen zum Sammeln von Wildkräutern\, Rezeptideen und jede Menge Geschichten und Aberglaube rund um die Grünen Wilden. \nNoch sind ausreichend Plätze vorhanden!
URL:https://wildewiesewohlgemuth.de/veranstaltung/kraeutersommer-in-resse/
LOCATION:Maxi Garagenhof\, Ewaldstr. neben REWE\, Gelsenkirchen-Resse\, Ewaldstr. 51c\, Gelsenkirchen\, NRW\, 45892\, Deutschland
CATEGORIES:Führungen
ATTACH;FMTTYPE=image/jpeg:https://wildewiesewohlgemuth.de/wp-content/uploads/2024/06/Kraeuterfuehrung-Sommerkraeuter.jpg
END:VEVENT
END:VCALENDAR