BEGIN:VCALENDAR
VERSION:2.0
PRODID:-//Wilde Wiese Wohlgemuth - ECPv6.15.20//NONSGML v1.0//EN
CALSCALE:GREGORIAN
METHOD:PUBLISH
X-WR-CALNAME:Wilde Wiese Wohlgemuth
X-ORIGINAL-URL:https://wildewiesewohlgemuth.de
X-WR-CALDESC:Veranstaltungen für Wilde Wiese Wohlgemuth
REFRESH-INTERVAL;VALUE=DURATION:PT1H
X-Robots-Tag:noindex
X-PUBLISHED-TTL:PT1H
BEGIN:VTIMEZONE
TZID:UTC
BEGIN:STANDARD
TZOFFSETFROM:+0000
TZOFFSETTO:+0000
TZNAME:UTC
DTSTART:20230101T000000
END:STANDARD
END:VTIMEZONE
BEGIN:VEVENT
DTSTART;TZID=UTC:20240810T110000
DTEND;TZID=UTC:20240810T170000
DTSTAMP:20260425T030559
CREATED:20240624T161131Z
LAST-MODIFIED:20240624T161131Z
UID:1604-1723287600-1723309200@wildewiesewohlgemuth.de
SUMMARY:Holunderlikör selber machen
DESCRIPTION:Wer bei mir lernen möchte\, wie man den leckeren Holunderlikör macht\, den ich bei meinen Veranstaltung im vergangenen Jahr ausgeschenkt habe\, ist hier genau richtig! Wir ernten gemeinsam vom Holunderstrauch die reifen Beeren\, verlesen und säubern diese und kochen daraus Holundersaft\, der anschließend zu Likör verfeinert wird. Der Teilnehmerbeitrag versteht sich inkl. Materialien und Getränke. \n Nur 6 Plätze!! \nAlso wieder mal schnell anmelden\, wer dabei sein möchte! \nDas alles natürlich nur unter der Voraussetzung\, dass der Holunder dann auch schon oder noch reif ist…😉
URL:https://wildewiesewohlgemuth.de/veranstaltung/holunderlikoer-selber-machen/
LOCATION:Gartenhaus Försterwinkel\, Eibenstr. 3\, Gelsenkirchen\, 45892
CATEGORIES:Workshops
ATTACH;FMTTYPE=image/jpeg:https://wildewiesewohlgemuth.de/wp-content/uploads/2024/06/Holunderlikoer.jpg
END:VEVENT
END:VCALENDAR