BEGIN:VCALENDAR
VERSION:2.0
PRODID:-//Wilde Wiese Wohlgemuth - ECPv6.15.20//NONSGML v1.0//EN
CALSCALE:GREGORIAN
METHOD:PUBLISH
X-ORIGINAL-URL:https://wildewiesewohlgemuth.de
X-WR-CALDESC:Veranstaltungen für Wilde Wiese Wohlgemuth
REFRESH-INTERVAL;VALUE=DURATION:PT1H
X-Robots-Tag:noindex
X-PUBLISHED-TTL:PT1H
BEGIN:VTIMEZONE
TZID:UTC
BEGIN:STANDARD
TZOFFSETFROM:+0000
TZOFFSETTO:+0000
TZNAME:UTC
DTSTART:20230101T000000
END:STANDARD
END:VTIMEZONE
BEGIN:VEVENT
DTSTART;TZID=UTC:20240322T153000
DTEND;TZID=UTC:20240322T170000
DTSTAMP:20260422T114306
CREATED:20240116T164138Z
LAST-MODIFIED:20240124T161459Z
UID:1217-1711121400-1711126800@wildewiesewohlgemuth.de
SUMMARY:Was wächst denn hier?! - Führung in der Wildnisschule
DESCRIPTION:Wir erkunden das erste zarte Grün und forschen nach der „grünen Neune“: was ist schon zu finden von unseren Kräuterfreunden? \nZur Information und Anmeldung nutze bitte das Kontaktformular\, schicke mir eine Whatsapp oder rufe mich einfach an! \nZur Veranstaltung auf den Seiten der Wildnisschule Ruhr – hier klicken!
URL:https://wildewiesewohlgemuth.de/veranstaltung/was-waechst-denn-hier-fuehrung/
LOCATION:Wildnisschule Ruhr\, Am Zippe 50\, Hattingen\, 45529
CATEGORIES:Führungen
ATTACH;FMTTYPE=image/jpeg:https://wildewiesewohlgemuth.de/wp-content/uploads/2024/01/Kraeuterfuehrung_2024-Giersch.jpg
END:VEVENT
END:VCALENDAR