BEGIN:VCALENDAR
VERSION:2.0
PRODID:-//Wilde Wiese Wohlgemuth - ECPv6.15.20//NONSGML v1.0//EN
CALSCALE:GREGORIAN
METHOD:PUBLISH
X-ORIGINAL-URL:https://wildewiesewohlgemuth.de
X-WR-CALDESC:Veranstaltungen für Wilde Wiese Wohlgemuth
REFRESH-INTERVAL;VALUE=DURATION:PT1H
X-Robots-Tag:noindex
X-PUBLISHED-TTL:PT1H
BEGIN:VTIMEZONE
TZID:UTC
BEGIN:STANDARD
TZOFFSETFROM:+0000
TZOFFSETTO:+0000
TZNAME:UTC
DTSTART:20230101T000000
END:STANDARD
END:VTIMEZONE
BEGIN:VEVENT
DTSTART;TZID=UTC:20240818T110000
DTEND;TZID=UTC:20240818T170000
DTSTAMP:20260420T055810
CREATED:20240624T161706Z
LAST-MODIFIED:20240624T161706Z
UID:1606-1723978800-1724000400@wildewiesewohlgemuth.de
SUMMARY:Farbenrausch - Malen mit Naturfarben
DESCRIPTION:Aufgrund der großen Nachfrage biete ich erneut einen Workshop an zum „Malen mit Naturfarben“ nach der sevengardens-Methode. \nWir mischen zunächst die Grundfarben aus verchiedenen Gemüsen und beginnen dann\, zu experimentieren mit getrockneten Blüten\, frischen Kräutern oder Blättern\, mit allem\, was der Garten so hergibt. Auf Aquarellpapier und auf Stoff fertigen wir farbenfrohe Kunstwerke\, die „ganz natürlich“ entstanden sind. \nDer Teilnahmebeitrag versteht sich inkl. Materialien und Getränke. \nNur 6 Plätze! Also schnell anmelden\, wer dabei sein möchte!
URL:https://wildewiesewohlgemuth.de/veranstaltung/farbenrausch-malen-mit-naturfarben/
LOCATION:Gartenhaus Försterwinkel\, Eibenstr. 3\, Gelsenkirchen\, 45892
CATEGORIES:Workshops
ATTACH;FMTTYPE=image/jpeg:https://wildewiesewohlgemuth.de/wp-content/uploads/2024/06/Malen-mit-Naturfaren-002.jpg
END:VEVENT
END:VCALENDAR