BEGIN:VCALENDAR
VERSION:2.0
PRODID:-//Wilde Wiese Wohlgemuth - ECPv6.15.20//NONSGML v1.0//EN
CALSCALE:GREGORIAN
METHOD:PUBLISH
X-ORIGINAL-URL:https://wildewiesewohlgemuth.de
X-WR-CALDESC:Veranstaltungen für Wilde Wiese Wohlgemuth
REFRESH-INTERVAL;VALUE=DURATION:PT1H
X-Robots-Tag:noindex
X-PUBLISHED-TTL:PT1H
BEGIN:VTIMEZONE
TZID:UTC
BEGIN:STANDARD
TZOFFSETFROM:+0000
TZOFFSETTO:+0000
TZNAME:UTC
DTSTART:20230101T000000
END:STANDARD
END:VTIMEZONE
BEGIN:VEVENT
DTSTART;TZID=UTC:20240608T100000
DTEND;TZID=UTC:20240608T170000
DTSTAMP:20260423T184230
CREATED:20240522T125300Z
LAST-MODIFIED:20240522T125300Z
UID:1575-1717840800-1717866000@wildewiesewohlgemuth.de
SUMMARY:SALIX-Ausbildung Kräuterpädagogik „Wasserbrennen/Destillieren“
DESCRIPTION:mit Sigrun Zobel \nAls Honorardozentin unterstütze ich meine Lehrerin Sigrun bei der Ausbildung der neuen Kräuterpädagog*innen auch in diesem Jahr. Wir destillieren mit Wasserdampf nach der Wok-Methode und mit den Kupferdestillen Hydrolate = Pflanzenwässer\, aus Lavendel\, Salbei und Rosmarin und mischen daraus duftende Cremes und Deos. \n– geschlossene Veranstaltung der SALIX-Heilkräuterschule –
URL:https://wildewiesewohlgemuth.de/veranstaltung/salix-ausbildung-kraeuterpaedagogik-wasserbrennen-destillieren/
LOCATION:BUND-Naturerlebnisgarten Herten\, Am Paschenberg 161\, Herten\, 45699
CATEGORIES:Workshops
ATTACH;FMTTYPE=image/jpeg:https://wildewiesewohlgemuth.de/wp-content/uploads/2024/01/Kraeuterworkshop_2024-VIP-Lavendel.jpg
END:VEVENT
END:VCALENDAR